BEGIN:VCALENDAR
VERSION:2.0
X-WR-CALNAME: Scattered Purgatory
PRODID:GIGPRESS 2.0 WORDPRESS PLUGIN
CALSCALE:GREGORIAN
X-WR-TIMEZONE:Etc/GMT
METHOD:PUBLISH
BEGIN:VTIMEZONE
TZID:GMT
BEGIN:STANDARD
DTSTART:20071028T010000
TZOFFSETTO:+0000
TZOFFSETFROM:+0000
END:STANDARD
END:VTIMEZONE
BEGIN:VEVENT
SUMMARY:Scattered Purgatory at Golden Lion
DESCRIPTION:
LOCATION:Golden Lion\, Todmorden\, UK
UID:20260421-18293-soundofcobra@gmail.com
URL:https://swampbooking.com
DTSTART;VALUE=DATE;TZID=GMT:20260421
DTEND;VALUE=DATE;TZID=GMT:20260421
DTSTAMP:20260421T085526Z
END:VEVENT
BEGIN:VEVENT
SUMMARY:Scattered Purgatory at Yes basement 120
DESCRIPTION:
LOCATION:Yes basement 120\, Manchester\, UK
UID:20260422-18294-soundofcobra@gmail.com
URL:https://swampbooking.com
DTSTART;VALUE=DATE;TZID=GMT:20260422
DTEND;VALUE=DATE;TZID=GMT:20260422
DTSTAMP:20260421T085526Z
END:VEVENT
BEGIN:VEVENT
SUMMARY:Scattered Purgatory at Neue Zukunft
DESCRIPTION:Notes: supporting The Telescopes 
LOCATION:Neue Zukunft\, Berlin\, DE
UID:20260425-18295-soundofcobra@gmail.com
URL:https://swampbooking.com
DTSTART;VALUE=DATE;TZID=GMT:20260425
DTEND;VALUE=DATE;TZID=GMT:20260425
DTSTAMP:20260421T085526Z
END:VEVENT
BEGIN:VEVENT
SUMMARY:Scattered Purgatory at Hünermanhattan
DESCRIPTION:Notes: supporting Ak'chamel\, Maud the Moth 
LOCATION:Hünermanhattan\, Halle\, DE
UID:20260426-18296-soundofcobra@gmail.com
URL:https://swampbooking.com
DTSTART;VALUE=DATE;TZID=GMT:20260426
DTEND;VALUE=DATE;TZID=GMT:20260426
DTSTAMP:20260421T085526Z
END:VEVENT
BEGIN:VEVENT
SUMMARY:Scattered Purgatory at Cave12
DESCRIPTION:
LOCATION:Cave12\, Geneva\, CH
UID:20260429-18297-soundofcobra@gmail.com
URL:https://swampbooking.com
DTSTART;VALUE=DATE;TZID=GMT:20260429
DTEND;VALUE=DATE;TZID=GMT:20260429
DTSTAMP:20260421T085526Z
END:VEVENT
BEGIN:VEVENT
SUMMARY:Scattered Purgatory at Experimenta Festival
DESCRIPTION:
LOCATION:Experimenta Festival\, Bari\, IT
UID:20260502-18298-soundofcobra@gmail.com
URL:https://swampbooking.com
DTSTART;VALUE=DATE;TZID=GMT:20260502
DTEND;VALUE=DATE;TZID=GMT:20260502
DTSTAMP:20260421T085526Z
END:VEVENT
BEGIN:VEVENT
SUMMARY:Scattered Purgatory at Clandestino
DESCRIPTION:
LOCATION:Clandestino\, Faenza\, IT
UID:20260507-18299-soundofcobra@gmail.com
URL:https://swampbooking.com
DTSTART;VALUE=DATE;TZID=GMT:20260507
DTEND;VALUE=DATE;TZID=GMT:20260507
DTSTAMP:20260421T085526Z
END:VEVENT
BEGIN:VEVENT
SUMMARY:Scattered Purgatory at Cascina Bellaria
DESCRIPTION:
LOCATION:Cascina Bellaria\, Sezzadio (AL)\, IT
UID:20260509-18300-soundofcobra@gmail.com
URL:https://swampbooking.com
DTSTART;VALUE=DATE;TZID=GMT:20260509
DTEND;VALUE=DATE;TZID=GMT:20260509
DTSTAMP:20260421T085526Z
END:VEVENT
BEGIN:VEVENT
SUMMARY:Scattered Purgatory at Nuits Sonores
DESCRIPTION:
LOCATION:Nuits Sonores\, Lyon\, FR
UID:20260513-18301-soundofcobra@gmail.com
URL:https://swampbooking.com
DTSTART;VALUE=DATE;TZID=GMT:20260513
DTEND;VALUE=DATE;TZID=GMT:20260513
DTSTAMP:20260421T085526Z
END:VEVENT
END:VCALENDAR