BEGIN:VCALENDAR
VERSION:2.0
X-WR-CALNAME: Cardiel
PRODID:GIGPRESS 2.0 WORDPRESS PLUGIN
CALSCALE:GREGORIAN
X-WR-TIMEZONE:Etc/GMT
METHOD:PUBLISH
BEGIN:VTIMEZONE
TZID:GMT
BEGIN:STANDARD
DTSTART:20071028T010000
TZOFFSETTO:+0000
TZOFFSETFROM:+0000
END:STANDARD
END:VTIMEZONE
BEGIN:VEVENT
SUMMARY:Cardiel at Eastfilly Fest
DESCRIPTION:
LOCATION:Eastfilly Fest\, Zentrum Zinsholz\, DE
UID:20260508-18072-soundofcobra@gmail.com
URL:https://swampbooking.com
DTSTART;VALUE=DATE;TZID=GMT:20260508
DTEND;VALUE=DATE;TZID=GMT:20260508
DTSTAMP:20260422T021214Z
END:VEVENT
BEGIN:VEVENT
SUMMARY:Cardiel at P8
DESCRIPTION:
LOCATION:P8\, Karlsruhe\, DE
UID:20260509-18073-soundofcobra@gmail.com
URL:https://swampbooking.com
DTSTART;VALUE=DATE;TZID=GMT:20260509
DTEND;VALUE=DATE;TZID=GMT:20260509
DTSTAMP:20260422T021214Z
END:VEVENT
BEGIN:VEVENT
SUMMARY:Cardiel at HeadQuarters
DESCRIPTION:
LOCATION:HeadQuarters\, Aarhus\, DK
UID:20260511-18074-soundofcobra@gmail.com
URL:https://swampbooking.com
DTSTART;VALUE=DATE;TZID=GMT:20260511
DTEND;VALUE=DATE;TZID=GMT:20260511
DTSTAMP:20260422T021214Z
END:VEVENT
BEGIN:VEVENT
SUMMARY:Cardiel at Peter Weiss Haus
DESCRIPTION:
LOCATION:Peter Weiss Haus\, Rostock\, DE
UID:20260512-18075-soundofcobra@gmail.com
URL:https://swampbooking.com
DTSTART;VALUE=DATE;TZID=GMT:20260512
DTEND;VALUE=DATE;TZID=GMT:20260512
DTSTAMP:20260422T021214Z
END:VEVENT
BEGIN:VEVENT
SUMMARY:Cardiel at Vortex
DESCRIPTION:
LOCATION:Vortex\, Siegen\, DE
UID:20260513-18076-soundofcobra@gmail.com
URL:https://swampbooking.com
DTSTART;VALUE=DATE;TZID=GMT:20260513
DTEND;VALUE=DATE;TZID=GMT:20260513
DTSTAMP:20260422T021214Z
END:VEVENT
BEGIN:VEVENT
SUMMARY:Cardiel at DESERTFEST BERLIN
DESCRIPTION:
LOCATION:DESERTFEST BERLIN\, Berlin\, DE
UID:20260514-18077-soundofcobra@gmail.com
URL:https://swampbooking.com
DTSTART;VALUE=DATE;TZID=GMT:20260514
DTEND;VALUE=DATE;TZID=GMT:20260514
DTSTAMP:20260422T021214Z
END:VEVENT
BEGIN:VEVENT
SUMMARY:Cardiel at Sonic Whip Festival
DESCRIPTION:
LOCATION:Sonic Whip Festival\, Nijmegen\, NL
UID:20260515-18078-soundofcobra@gmail.com
URL:https://swampbooking.com
DTSTART;VALUE=DATE;TZID=GMT:20260515
DTEND;VALUE=DATE;TZID=GMT:20260515
DTSTAMP:20260422T021214Z
END:VEVENT
BEGIN:VEVENT
SUMMARY:Cardiel at Schifflange Skatepark
DESCRIPTION:
LOCATION:Schifflange Skatepark\, Esch-Sur-Alzette\, LU
UID:20260516-18079-soundofcobra@gmail.com
URL:https://swampbooking.com
DTSTART;VALUE=DATE;TZID=GMT:20260516
DTEND;VALUE=DATE;TZID=GMT:20260516
DTSTAMP:20260422T021214Z
END:VEVENT
BEGIN:VEVENT
SUMMARY:Cardiel at Obsidian Dust
DESCRIPTION:
LOCATION:Obsidian Dust\, Bruxelles\, BE
UID:20260517-18080-soundofcobra@gmail.com
URL:https://swampbooking.com
DTSTART;VALUE=DATE;TZID=GMT:20260517
DTEND;VALUE=DATE;TZID=GMT:20260517
DTSTAMP:20260422T021214Z
END:VEVENT
END:VCALENDAR