BEGIN:VCALENDAR
VERSION:2.0
X-WR-CALNAME: Torture Rack
PRODID:GIGPRESS 2.0 WORDPRESS PLUGIN
CALSCALE:GREGORIAN
X-WR-TIMEZONE:Etc/GMT
METHOD:PUBLISH
BEGIN:VTIMEZONE
TZID:GMT
BEGIN:STANDARD
DTSTART:20071028T010000
TZOFFSETTO:+0000
TZOFFSETFROM:+0000
END:STANDARD
END:VTIMEZONE
BEGIN:VEVENT
SUMMARY:Torture Rack at Kapu
DESCRIPTION:
LOCATION:Kapu\, Linz\, AT
UID:20260423-17666-soundofcobra@gmail.com
URL:https://swampbooking.com
DTSTART;VALUE=DATE;TZID=GMT:20260423
DTEND;VALUE=DATE;TZID=GMT:20260423
DTSTAMP:20260422T114023Z
END:VEVENT
BEGIN:VEVENT
SUMMARY:Torture Rack at Hühnermanhattan Klub
DESCRIPTION:
LOCATION:Hühnermanhattan Klub\, Halle\, DE
UID:20260424-17661-soundofcobra@gmail.com
URL:https://swampbooking.com
DTSTART;VALUE=DATE;TZID=GMT:20260424
DTEND;VALUE=DATE;TZID=GMT:20260424
DTSTAMP:20260422T114023Z
END:VEVENT
END:VCALENDAR