BEGIN:VCALENDAR
VERSION:2.0
X-WR-CALNAME: Undergang
PRODID:GIGPRESS 2.0 WORDPRESS PLUGIN
CALSCALE:GREGORIAN
X-WR-TIMEZONE:Etc/GMT
METHOD:PUBLISH
BEGIN:VTIMEZONE
TZID:GMT
BEGIN:STANDARD
DTSTART:20071028T010000
TZOFFSETTO:+0000
TZOFFSETFROM:+0000
END:STANDARD
END:VTIMEZONE
BEGIN:VEVENT
SUMMARY:Undergang at Centrale Rock
DESCRIPTION:
LOCATION:Centrale Rock\, Erba\, IT
UID:20260421-17885-soundofcobra@gmail.com
URL:https://swampbooking.com
DTSTART;VALUE=DATE;TZID=GMT:20260421
DTEND;VALUE=DATE;TZID=GMT:20260421
DTSTAMP:20260421T113746Z
END:VEVENT
BEGIN:VEVENT
SUMMARY:Undergang at Centrale Rock Pub
DESCRIPTION:
LOCATION:Centrale Rock Pub\, Como\, IT
UID:20260422-17891-soundofcobra@gmail.com
URL:https://swampbooking.com
DTSTART;VALUE=DATE;TZID=GMT:20260422
DTEND;VALUE=DATE;TZID=GMT:20260422
DTSTAMP:20260421T113746Z
END:VEVENT
BEGIN:VEVENT
SUMMARY:Undergang at Main D'Oeuvres
DESCRIPTION:
LOCATION:Main D'Oeuvres\, Paris\, FR
UID:20260423-17859-soundofcobra@gmail.com
URL:https://swampbooking.com
DTSTART;VALUE=DATE;TZID=GMT:20260423
DTEND;VALUE=DATE;TZID=GMT:20260423
DTSTAMP:20260421T113746Z
END:VEVENT
BEGIN:VEVENT
SUMMARY:Undergang at Little Devil
DESCRIPTION:
LOCATION:Little Devil\, Tilburg\, NL
UID:20260424-17862-soundofcobra@gmail.com
URL:https://swampbooking.com
DTSTART;VALUE=DATE;TZID=GMT:20260424
DTEND;VALUE=DATE;TZID=GMT:20260424
DTSTAMP:20260421T113746Z
END:VEVENT
BEGIN:VEVENT
SUMMARY:Undergang at Magasin 4
DESCRIPTION:
LOCATION:Magasin 4\, Bruxelles\, BE
UID:20260425-17866-soundofcobra@gmail.com
URL:https://swampbooking.com
DTSTART;VALUE=DATE;TZID=GMT:20260425
DTEND;VALUE=DATE;TZID=GMT:20260425
DTSTAMP:20260421T113746Z
END:VEVENT
BEGIN:VEVENT
SUMMARY:Undergang at Urban Spree
DESCRIPTION:
LOCATION:Urban Spree\, Berlin\, DE
UID:20260426-17665-soundofcobra@gmail.com
URL:https://swampbooking.com
DTSTART;VALUE=DATE;TZID=GMT:20260426
DTEND;VALUE=DATE;TZID=GMT:20260426
DTSTAMP:20260421T113746Z
END:VEVENT
END:VCALENDAR