BEGIN:VCALENDAR
VERSION:2.0
X-WR-CALNAME: Alessandro Cortini
PRODID:GIGPRESS 2.0 WORDPRESS PLUGIN
CALSCALE:GREGORIAN
X-WR-TIMEZONE:Etc/GMT
METHOD:PUBLISH
BEGIN:VTIMEZONE
TZID:GMT
BEGIN:STANDARD
DTSTART:20071028T010000
TZOFFSETTO:+0000
TZOFFSETFROM:+0000
END:STANDARD
END:VTIMEZONE
BEGIN:VEVENT
SUMMARY:Alessandro Cortini at Jazz is dead!
DESCRIPTION:
LOCATION:Jazz is dead!\, Torino\, IT
UID:20260529-17949-soundofcobra@gmail.com
URL:https://swampbooking.com
DTSTART;VALUE=DATE;TZID=GMT:20260529
DTEND;VALUE=DATE;TZID=GMT:20260529
DTSTAMP:20260420T083110Z
END:VEVENT
BEGIN:VEVENT
SUMMARY:Alessandro Cortini at Teatro San Giorgio
DESCRIPTION:
LOCATION:Teatro San Giorgio\, Pordenone\, IT
UID:20260530-17950-soundofcobra@gmail.com
URL:https://swampbooking.com
DTSTART;VALUE=DATE;TZID=GMT:20260530
DTEND;VALUE=DATE;TZID=GMT:20260530
DTSTAMP:20260420T083110Z
END:VEVENT
END:VCALENDAR